BEGIN:VCALENDAR
VERSION:2.0
PRODID:-//Tukios.com/
BEGIN:VEVENT
UID:645248c9-228a-47e0-bfc9-62ec496eea06@www.wilsonfuneralhomesinc.com
DTSTAMP:20260424T013144Z
DTSTART:20260427T150000Z
DTEND:20260427T170000Z
SUMMARY:Visitation
DESCRIPTION:
URL:https://www.wilsonfuneralhomesinc.com/obituaries/kim-kimmy-gandee
LOCATION:New Hope Baptist Church 603 Euchlid Ave.  Marion OH 43302
GEO:40.5988073;-83.1512741
END:VEVENT
END:VCALENDAR