BEGIN:VCALENDAR
VERSION:2.0
PRODID:-//Tukios.com/
BEGIN:VEVENT
UID:8eeb12f1-2f18-4232-9847-25089d79b7c8@www.wilsonfuneralhomesinc.com
DTSTAMP:20260424T013357Z
DTSTART:20260427T170000Z
DTEND:20260427T180000Z
SUMMARY:Funeral Service
DESCRIPTION:
URL:https://www.wilsonfuneralhomesinc.com/obituaries/kim-kimmy-gandee
LOCATION: 603 Euchlid Ave.  Marion OH 43302
GEO:40.5988073;-83.1512741
END:VEVENT
END:VCALENDAR