BEGIN:VCALENDAR
VERSION:2.0
PRODID:-//Tukios.com/
BEGIN:VEVENT
UID:8dce694c-b20e-41b9-9a3f-ddc4f9cab558@www.wilsonfuneralhomesinc.com
DTSTAMP:20260424T013601Z
DTSTART:20260427
SUMMARY:Burial
DESCRIPTION:
URL:https://www.wilsonfuneralhomesinc.com/obituaries/kim-kimmy-gandee
LOCATION: 620 Delaware Ave  Marion OH 43302
GEO:40.576635;-83.12201
END:VEVENT
END:VCALENDAR